BEGIN:VCALENDAR
VERSION:2.0
PRODID:-//wp-events-plugin.com//7.2.3.1//EN
BEGIN:VEVENT
UID:41@swiss-aerospace-cluster.ch
DTSTART;TZID=Europe/Paris:20260324T143000
DTEND;TZID=Europe/Paris:20260324T180000
DTSTAMP:20260312T174416Z
URL:https://swiss-aerospace-cluster.ch/events/visit-at-ecoparts/
SUMMARY:WG Drones & UAS: Visit Ecoparts
DESCRIPTION:ECOPARTS ist ein 3D Druck-\, beziehungsweise Additive Manufactu
 ring (AM)-Pionier der ersten Stunde. Mit über 19 Jahren Erfahrung (2006 g
 egründet) in der additiven Fertigung von Metall bietet ECOPARTS als Diens
 tleister/Lohnfertiger der Europäischen Industrie die Grundlage für neue\
 , innovative Produkte.\n\nEcoparts steht als Lösungsfinder für die indus
 trielle Fertigung von 3D Metall Teilen. Wir unterstützen unsere Kunden mi
 t Beratung\, Engineering und Konstruktion. Mit mehr als 10 Werkstoffen\, d
 en neusten Parametern und einem professionellen Maschinenpark zum Drucken 
 und für die mechanische Nacharbeit\, haben wir bei Ecoparts den 100% Focu
 s auf die additive Fertigung.\n\nFERTIGTEILE\n\nAM-Fertigung von Einzel- u
 nd Serienbauteilen inklusive Nacharbeiten\n\nQUALITÄT (ISO9100)\n\nMaxima
 le Bauteilequalität (Masshaltigkeit\, Oberfläche und Gefüge) mit hoher 
 Prozesssicherheit und Reproduzierbarkeit\n\nKAPAZITÄTEN\n\nGrösster Schw
 eizer AM-Metall Dienstleister mit Produktionsvolumen für industrielle Kle
 in- und Grossaufträge\n\nKOMPETENZ\n\nBeratung und aktiver Wissenstransfe
 r im Projekt für AM-Prozesse\, Konstruktionen und Werkstoffe\n\n&nbsp\;\n
 \nAGENDA\n\n\n\n\nBegrüssung und Updates der WG Drones &amp\; AUS sowie e
 vtl. Helicopter &amp\; VTOL\nWelcome and update from the president of the 
 working group\n\nUp to 15 Minuten\n\n\n\nFirmenpräsentation (Technologie\
 , Zertifikate\, Produkte - was ist heute möglich)\nCompany presentatation
  (technology\, certificates\, products – what is possible today)\n\n45 M
 inuten\n\n\n\nPause / Break\n\n15 Minuten\n\n\n\nPitch von Mitgliedern tbd
  / Short pitches from member companies (2 – 3)\n\n15 Minuten\n\n\n\nFirm
 enrundgang / facility tour\n\n45 Minuten\n\n\n\nSteh-Apéro / small apéro
 \n\n60 Minuten\n\n\n\n\nPlease register HERE.\n\n
ATTACH;FMTTYPE=image/jpeg:https://swiss-aerospace-cluster.ch/wp-content/up
 loads/2025/11/ecoparts_event.jpg
CATEGORIES:Working Group and internal meetings
LOCATION:Ecoparts\, Zürichstrasse 62\, Hinwil\, 8340\, Switzerland
X-APPLE-STRUCTURED-LOCATION;VALUE=URI;X-ADDRESS=Zürichstrasse 62\, Hinwil\
 , 8340\, Switzerland;X-APPLE-RADIUS=100;X-TITLE=Ecoparts:geo:0,0
END:VEVENT
BEGIN:VTIMEZONE
TZID:Europe/Paris
X-LIC-LOCATION:Europe/Paris
BEGIN:STANDARD
DTSTART:20251026T020000
TZOFFSETFROM:+0200
TZOFFSETTO:+0100
TZNAME:CET
END:STANDARD
END:VTIMEZONE
END:VCALENDAR