BEGIN:VCALENDAR
VERSION:2.0
PRODID:-//wp-events-plugin.com//7.2.3.1//EN
BEGIN:VEVENT
UID:5@swiss-aerospace-cluster.ch
DTSTART;TZID=Europe/Paris;VALUE=DATE:20241119
DTEND;TZID=Europe/Paris;VALUE=DATE:20241122
DTSTAMP:20240416T090503Z
URL:https://swiss-aerospace-cluster.ch/events/swiss-pavilion-at-space-tech
 -expo-europe/
SUMMARY:Swiss Pavilion at Space Tech Expo Europe
DESCRIPTION:Switzerland Global Enterprise together with the Swiss Business 
 Hub is organizing a Swiss Pavilion at Space Tech Expo Europe in Bremen fro
 m November 19-21.\n\nThe show is Europe's leading B2B space technology eve
 nt for spacecraft\, satellites\, launchers and space-related technologies 
 and attracts thousands of industry leaders\, decision makers\, engineers\,
  planners and buyers to meet manufacturers and the supply chain for civil\
 , military and commercial space.\n\nAt our Swiss Pavilion\, you have the o
 pportunity to showcase your products and technologies under the Swiss umbr
 ella brand. You take over the turnkey stand and can concentrate fully on b
 usiness. In addition\, we will organize various networking events around t
 he show to present your company in the best possible way.\n- Click here to
  get more information and register -
ATTACH;FMTTYPE=image/jpeg:https://swiss-aerospace-cluster.ch/wp-content/up
 loads/2024/04/sge_1_2.png
CATEGORIES:International air shows – pavilion
END:VEVENT
BEGIN:VTIMEZONE
TZID:Europe/Paris
X-LIC-LOCATION:Europe/Paris
BEGIN:STANDARD
DTSTART:20241027T020000
TZOFFSETFROM:+0200
TZOFFSETTO:+0100
TZNAME:CET
END:STANDARD
END:VTIMEZONE
END:VCALENDAR