BEGIN:VCALENDAR
VERSION:2.0
PRODID:-//wp-events-plugin.com//7.2.3.1//EN
BEGIN:VEVENT
UID:57@swiss-aerospace-cluster.ch
DTSTART:20260406T000000Z
DTEND:20260410T000000Z
DTSTAMP:20260226T155015Z
URL:https://swiss-aerospace-cluster.ch/events/s-ge-unlocking-opportunities
 -swiss-texas-aerospace-space-tech-business-mission/
SUMMARY:S-GE: Unlocking Opportunities: Swiss–Texas Aerospace\, Space\, Te
 ch Business Mission
DESCRIPTION:Register now!\n\n\nExplore business opportunities in Texas\, bu
 ild strategic partnerships\, and engage directly with the state’s leadin
 g aerospace and space-tech ecosystems - one of the world’s most dynamic 
 hubs for aerospace\, space innovation\, and advanced technologies.\n\n
ATTACH;FMTTYPE=image/jpeg:https://swiss-aerospace-cluster.ch/wp-content/up
 loads/2026/02/Screenshot-2026-02-18-at-19.59.56.png
CATEGORIES:3rd party events – SAC benefits
END:VEVENT
END:VCALENDAR