BEGIN:VCALENDAR
VERSION:2.0
PRODID:-//wp-events-plugin.com//7.2.3.1//EN
BEGIN:VEVENT
UID:51@swiss-aerospace-cluster.ch
DTSTART:20260610T000000Z
DTEND:20260614T000000Z
DTSTAMP:20260123T105558Z
URL:https://swiss-aerospace-cluster.ch/events/ila-berlin/
SUMMARY:ILA Berlin
DESCRIPTION:\n\nILA Berlin leads in innovation\, new technology\, and susta
 inability\, bringing the world's aerospace industry to the center of Europ
 e every two years - next time from June 10 to 14\, 2026.\n\nILA Berlin: Pi
 oneering Aerospace since 1909\n\nWith its sectors Aviation\, Space\, Defen
 ce &amp\; Support\, Advanced Air Mobility\, and Supplier\, ILA Berlin cove
 rs the entire value chain of the aerospace industry. Here\, we vividly dem
 onstrate how the transformation of civil aviation towards climate neutrali
 ty can succeed. The unique Space Pavilion showcases the diverse benefits o
 f space exploration for life on Earth – from climate protection and digi
 talization to security and mobility. The military section emphasizes the i
 mportance of the armed forces in defending our democratic values and Europ
 ean sovereignty. In the Advanced Air Mobility exhibition area\, the full s
 pectrum of unmanned aerial systems and electric vertical take-off and land
 ing vehicles (eVTOLs) is presented. The International Supplier Center conn
 ects the extensive supply chain with buyers from OEMs and 1st-tier supplie
 rs. Key topics include climate-neutral flying\, digitalization\, and suppl
 y chain stability.\n\nIn 2024\, the European Commission once again served 
 as a strategic partner of ILA Berlin. This partnership strengthens Europe
 ’s technological leadership and paves the way for a sustainable future i
 n aerospace under the motto “Airborne in Europe.”\n\nResults of ILA 20
 24\n\nIn 2024\, ILA Berlin welcomed approximately 95\,000 visitors and 600
  exhibitors from 31 countries. Over 850 journalists reported on-site. On t
 he new five ILA STAGES\, 350 speakers participated in expert talks\, panel
  discussions\, debates\, and science slams discussing future trends in aer
 ospace.\n\nTo prepare for a career start or advancement in the fascinating
  world of aerospace\, the TALENT HUB at ILA 2024 offered numerous opportun
 ities for networking and exchange to both young talents and experienced pr
 ofessionals. Friday was dedicated to TALENT DAY\, where 1\,500 participant
 s explored career opportunities with our exhibitors. Forty exhibitors regi
 stered as Talent Hub partners\, benefiting from increased visibility both 
 on-site and digitally\, as well as the opportunity to promote their job op
 enings through us. A total of 210 job offers were uploaded to our digital 
 platform\, ILA Digital.\n\nILA is jointly organized by BDLI (German Aerosp
 ace Industries Association) and Messe Berlin. The next ILA will take place
  from June 10 to 14\, 2026.\n\nMore info here.\n\n
ATTACH;FMTTYPE=image/jpeg:https://swiss-aerospace-cluster.ch/wp-content/up
 loads/2026/01/ILA-Berlin-2026.jpg
CATEGORIES:International air shows – pavilion
END:VEVENT
END:VCALENDAR