BEGIN:VCALENDAR
VERSION:2.0
PRODID:-//wp-events-plugin.com//7.2.3.1//EN
BEGIN:VEVENT
UID:3@swiss-aerospace-cluster.ch
DTSTART;VALUE=DATE:20240724
DTEND;VALUE=DATE:20240726
DTSTAMP:20240620T121851Z
URL:https://swiss-aerospace-cluster.ch/events/business-mission-to-farnboro
 ugh-international-airshow-2024/
SUMMARY:Business Mission to Farnborough International Airshow 2024
DESCRIPTION:The Business Trip\, organized by Switzerland Global Enterprise 
 (S-GE)\, the Swiss Business Hub London (SBH) and Swissmem Swiss ASD\, offe
 rs you an exceptional opportunity to explore potential partnerships\, and 
 gain exclusive insights into some of the leading companies around Farnboro
 ugh. It will take place on July 24th-25th\; this mission promises to be a 
 rewarding experience for all participants.\n\nIt is confirmed\, and there 
 are still spots. Swiss Aerospace Cluster members get 10% off\, via their c
 omplimentary S-GE Silver Membership! The deadline to sign up has been exte
 nded to June 30th.\n\nGuided company visits to e.g. BAE Systems\, and a vi
 sit to the Harwell Science and Innovation Campus\n\n 	Make personal contac
 t and exchange ideas in an intimate setting.\n 	Be part of the official Sw
 iss delegation\, including an exclusive VIP dinner with networking opportu
 nities at the Royal Airforce Club in London\n 	Connect and network directl
 y at the Farnborough International Airshow\n\n- Click here to get more inf
 ormation and register -
ATTACH;FMTTYPE=image/jpeg:https://swiss-aerospace-cluster.ch/wp-content/up
 loads/2024/04/sge_f.png
CATEGORIES:Trade mission
END:VEVENT
END:VCALENDAR