BEGIN:VCALENDAR
VERSION:2.0
PRODID:-//wp-events-plugin.com//7.2.3.1//EN
BEGIN:VEVENT
UID:4@swiss-aerospace-cluster.ch
DTSTART;TZID=Europe/Paris;VALUE=DATE:20240911
DTEND;TZID=Europe/Paris;VALUE=DATE:20240912
DTSTAMP:20240624T124553Z
URL:https://swiss-aerospace-cluster.ch/events/aviation-and-space-symposium
 -st-gallen/
SUMMARY:Aviation and Space Symposium St. Gallen
DESCRIPTION:Registration: 40% DISCOUNT for SAC Members\nExhibitors: SAC Mem
 bers pay 999.- CHF (standard table\, 2x2m\, 2 conference tickets)\n\nPart 
 of LUNAR WEEK SWITZERLAND\n3rd edition of the Aviation and Space Symposium
 \, organized by the Center for Aviation and Symposium at the University of
  St. Gallen. Conference and exhibition in OLMA Hall 9.0.\n[pdf-embedder ur
 l="https://swiss-aerospace-cluster.ch/wp-content/uploads/2024/04/AS2024_In
 fo-Deck_AerospaceInnovationDays_v1_SAC.pdf"]\n\n 	300 participants\n 	25 e
 xhibitors\n 	AVIATION and SPACE keynote and panel discussions:\n\n 	Rotors
  4.0\n 	Future Aviation\n 	NewSpaceRace\n 	Space Innovatisation\n\n\n 	Spe
 cial Guests:\n\n 	ESA Astronauts Claude Nicollier + Ulrich Walter\n 	Forme
 r DLR Chairwoman Pascale Ehrenfreund\n 	Award-winning Filmmaker Torsten Ho
 ffmann\n 	Etc.\n\n\n\n- Click here to get more information and register -
ATTACH;FMTTYPE=image/jpeg:https://swiss-aerospace-cluster.ch/wp-content/up
 loads/2024/04/Capture-decran-2024-04-16-a-10.55.43.png
CATEGORIES:SAC (co-organized) event
LOCATION:OLMA Hall 9.0\,  Schellenweg\, St.Gallen\, Switzerland
X-APPLE-STRUCTURED-LOCATION;VALUE=URI;X-ADDRESS= Schellenweg\, St.Gallen\, 
 Switzerland;X-APPLE-RADIUS=100;X-TITLE=OLMA Hall 9.0:geo:0,0
END:VEVENT
BEGIN:VTIMEZONE
TZID:Europe/Paris
X-LIC-LOCATION:Europe/Paris
BEGIN:DAYLIGHT
DTSTART:20240331T030000
TZOFFSETFROM:+0100
TZOFFSETTO:+0200
TZNAME:CEST
END:DAYLIGHT
END:VTIMEZONE
END:VCALENDAR