BEGIN:VCALENDAR
VERSION:2.0
PRODID:-//wp-events-plugin.com//7.2.3.1//EN
BEGIN:VEVENT
UID:45@swiss-aerospace-cluster.ch
DTSTART:20260422T000000Z
DTEND:20260425T000000Z
DTSTAMP:20251130T104624Z
URL:https://swiss-aerospace-cluster.ch/events/aero-friedrichshafen/
SUMMARY:AERO Friedrichshafen
DESCRIPTION:The Leading Show\nfor General Aviation\n\nhttps://www.aero-expo
 .com
ATTACH;FMTTYPE=image/jpeg:https://swiss-aerospace-cluster.ch/wp-content/up
 loads/2025/11/Screenshot-2025-11-30-at-11.45.34.png
CATEGORIES:3rd party events
END:VEVENT
END:VCALENDAR