BEGIN:VCALENDAR
VERSION:2.0
PRODID:-//wp-events-plugin.com//7.2.3.1//EN
BEGIN:VEVENT
UID:42@swiss-aerospace-cluster.ch
DTSTART:20260512T000000Z
DTEND:20260512T000000Z
DTSTAMP:20260417T150651Z
URL:https://swiss-aerospace-cluster.ch/events/14th-bodensee-aerospace-meet
 ing/
SUMMARY:14th Bodensee Aerospace Meeting
DESCRIPTION:Die Fachkonferenz für Luft- und Raumfahrt.\n\n&nbsp\;\n\nAll i
 nformation on the official website:\n\nhttps://www.bodensee-aerospace-meet
 ing.com\n\n&nbsp\;
ATTACH;FMTTYPE=image/jpeg:https://swiss-aerospace-cluster.ch/wp-content/up
 loads/2025/11/14_Bodensee_Aerospace_Meeting_2026_in_Stuttgart_web.jpg
CATEGORIES:SAC (co-organized) event
END:VEVENT
END:VCALENDAR